BEGIN:VCALENDAR
VERSION:2.0
PRODID:-//Kolpinghaus Regensburg - ECPv6.15.20//NONSGML v1.0//EN
CALSCALE:GREGORIAN
METHOD:PUBLISH
X-WR-CALNAME:Kolpinghaus Regensburg
X-ORIGINAL-URL:https://kolpinghaus-regensburg.de
X-WR-CALDESC:Veranstaltungen für Kolpinghaus Regensburg
REFRESH-INTERVAL;VALUE=DURATION:PT1H
X-Robots-Tag:noindex
X-PUBLISHED-TTL:PT1H
BEGIN:VTIMEZONE
TZID:Europe/Berlin
BEGIN:DAYLIGHT
TZOFFSETFROM:+0100
TZOFFSETTO:+0200
TZNAME:CEST
DTSTART:20210328T010000
END:DAYLIGHT
BEGIN:STANDARD
TZOFFSETFROM:+0200
TZOFFSETTO:+0100
TZNAME:CET
DTSTART:20211031T010000
END:STANDARD
BEGIN:DAYLIGHT
TZOFFSETFROM:+0100
TZOFFSETTO:+0200
TZNAME:CEST
DTSTART:20220327T010000
END:DAYLIGHT
BEGIN:STANDARD
TZOFFSETFROM:+0200
TZOFFSETTO:+0100
TZNAME:CET
DTSTART:20221030T010000
END:STANDARD
BEGIN:DAYLIGHT
TZOFFSETFROM:+0100
TZOFFSETTO:+0200
TZNAME:CEST
DTSTART:20230326T010000
END:DAYLIGHT
BEGIN:STANDARD
TZOFFSETFROM:+0200
TZOFFSETTO:+0100
TZNAME:CET
DTSTART:20231029T010000
END:STANDARD
END:VTIMEZONE
BEGIN:VEVENT
DTSTART;TZID=Europe/Berlin:20220708T200000
DTEND;TZID=Europe/Berlin:20220708T223000
DTSTAMP:20260424T131330
CREATED:20220323T150221Z
LAST-MODIFIED:20220323T150221Z
UID:1280-1657310400-1657319400@kolpinghaus-regensburg.de
SUMMARY:ADDNFAHRER – S’LEM IS KOA NUDLSUBBN
DESCRIPTION:Der Addnfahrer ist ein Phänomen\, dem der Sprung aus der virtuellen Welt von Facebook und Instagram\, auf die Bühnen Deutschlands gelungen ist\, wie keinem anderen. \nDer 28-jährige Comedian und Kabarettist aus dem Landkreis Bad Tölz steht seit Herbst 2019 mit seinem ersten eigenen Programm „S’Lem is koa Nudlusbbn“ auf der Bühne und erobert mit seinem authentischen Frohsinn und seiner ganz eigenen Art\, Geschichten aus seinem Leben zu erzählen\, sein Publikum. \nSeine Karriere in den sozialen Medien begann 2015 mit einem einfachen Video\, das er aus Spaß mit einem guten Freund gedreht hat. Daraus erwuchs in kurzer Zeit eine große Fangemeinde und eine eigene Marke\, der Addnfahrer mit Hut und orangefarbenen Hosenträgern. \nSein bekanntestes Video „Dr. Sommer“ erreichte bisher über 15 Millionen Menschen.  Dazu kommen fast 700.000 Fans auf Facebook\, knapp 150.000 Follower auf Instagram und 6\,5 Millionen Views auf YouTube. \n„S’Lem is koa Nudslubbn“ als Programmtitel verspricht und hält\, Geschichten aus einem „baorischen“ Leben von der Kindheit und Jugend bis zum Urlaub in Thailand mit der ersten festen Freundin. Und Dr. Sommer darf natürlich auch nicht fehlen. \nNeben seinem Kabarett Programm macht der Comedian auch noch Musik. Gemeinsam mit dem österreichischen Produzenten-Duo Harris & Ford nahm der Addnfahrer 2019 den Song „Hard\, Style and Volksmusik“ auf. Über 4\,5 Millionen Aufrufe auf YouTube zeigen\, dass er auch in diesem Bereich ein Händchen hat. Weitere Projekte sind in Arbeit. \nZudem spielt der junge Bayer aus dem Oberland mit seinem Kollegen Da Bobbe im Weihnachtsprogramm eine spezielle Version des „Dinner for one – af bayrisch“\, eine besondere und unterhaltsame Persiflage auf den Klassiker. \nWeitere Informationen finden Sie hier.
URL:https://kolpinghaus-regensburg.de/veranstaltung/addnfahrer-slem-is-koa-nudlsubbn/
CATEGORIES:Comedy,Konzert,Show
ATTACH;FMTTYPE=image/jpeg:https://kolpinghaus-regensburg.de/wp-content/uploads/2022/03/Addnfahrer-c-Addnfahrer-1-1.jpg
END:VEVENT
END:VCALENDAR