BEGIN:VCALENDAR
VERSION:2.0
PRODID:-//Kolpinghaus Regensburg - ECPv6.15.20//NONSGML v1.0//EN
CALSCALE:GREGORIAN
METHOD:PUBLISH
X-WR-CALNAME:Kolpinghaus Regensburg
X-ORIGINAL-URL:https://kolpinghaus-regensburg.de
X-WR-CALDESC:Veranstaltungen für Kolpinghaus Regensburg
REFRESH-INTERVAL;VALUE=DURATION:PT1H
X-Robots-Tag:noindex
X-PUBLISHED-TTL:PT1H
BEGIN:VTIMEZONE
TZID:Europe/Berlin
BEGIN:DAYLIGHT
TZOFFSETFROM:+0100
TZOFFSETTO:+0200
TZNAME:CEST
DTSTART:20210328T010000
END:DAYLIGHT
BEGIN:STANDARD
TZOFFSETFROM:+0200
TZOFFSETTO:+0100
TZNAME:CET
DTSTART:20211031T010000
END:STANDARD
BEGIN:DAYLIGHT
TZOFFSETFROM:+0100
TZOFFSETTO:+0200
TZNAME:CEST
DTSTART:20220327T010000
END:DAYLIGHT
BEGIN:STANDARD
TZOFFSETFROM:+0200
TZOFFSETTO:+0100
TZNAME:CET
DTSTART:20221030T010000
END:STANDARD
BEGIN:DAYLIGHT
TZOFFSETFROM:+0100
TZOFFSETTO:+0200
TZNAME:CEST
DTSTART:20230326T010000
END:DAYLIGHT
BEGIN:STANDARD
TZOFFSETFROM:+0200
TZOFFSETTO:+0100
TZNAME:CET
DTSTART:20231029T010000
END:STANDARD
END:VTIMEZONE
BEGIN:VEVENT
DTSTART;TZID=Europe/Berlin:20221105T193000
DTEND;TZID=Europe/Berlin:20221105T193000
DTSTAMP:20260424T201930
CREATED:20220420T071028Z
LAST-MODIFIED:20221021T145246Z
UID:1343-1667676600-1667676600@kolpinghaus-regensburg.de
SUMMARY:Zombie Inferno
DESCRIPTION:Achtung!\n – Die Show wurde vom Veranstalter abgesagt – \n  \n  \nZOMBIE INFERNO ist eine Show\, wie du sie noch nie erlebt hast: Jeder Abend ist anders\, da DU die Show zu etwas ganz Besonderem machst. \nKannst du dich retten? \nStell dir vor\, die Apokalypse startet und ausgerechnet du bist einer der letzten\, die am Leben sind. Da hat die Evolution wohl mal wieder total versagt… Aber was soll’s? Wir machen das Beste draus! \nSei mittendrin und bestimme den Verlauf der Handlungen und Entscheidungen aktiv mit! Mit etwas „Glück“ wirst du eine entscheidende Rolle für das Schicksal des kompletten Publikums spielen. Danke schon mal an dieser Stelle! 😛 \nDu liebst Jump Scares und bist dir für keinen dummen Spruch zu schade? Dann bist du bei ZOMBIE INFERNO genau richtig! Schnapp‘ dir einen Eimer voll getrockneter Gehirne und los geht’s! 🧠 \nSichere dir jetzt deine Tickets für einen absolut einzigartigen Abend voller Grusel-Momente\, purem Zombie-Spaß und krassem Nervenkitzel! \nDIE STORY \nDie Welt geht unter… \nNew York ist schon gefallen\, Paris und London ebenfalls. Zombies versetzen die Welt in Angst und Schrecken – Wer gebissen wird\, mutiert. Manche sollten das vielleicht eher als Chance ergreifen\, was meinst du? 😇 \nDas öffentliche Leben bricht zusammen\, die Regierung richtet Safe-Zones ein – und ausgerechnet du erreichst sie noch rechtzeitig\, ehe die Türen geschlossen werden. Na herzlichen Glückwunsch. \nFreu dich auf einen spannenden\, einmaligen Abend\, der vielleicht auch ein bisschen lustig werden kann. Wir werden auf jeden Fall unseren Spaß haben 😛 \nWeitere Informationen finden Sie hier.
URL:https://kolpinghaus-regensburg.de/veranstaltung/zombie-inferno/
CATEGORIES:Show
END:VEVENT
END:VCALENDAR