BEGIN:VCALENDAR
VERSION:2.0
PRODID:-//Kolpinghaus Regensburg - ECPv6.15.20//NONSGML v1.0//EN
CALSCALE:GREGORIAN
METHOD:PUBLISH
X-WR-CALNAME:Kolpinghaus Regensburg
X-ORIGINAL-URL:https://kolpinghaus-regensburg.de
X-WR-CALDESC:Veranstaltungen für Kolpinghaus Regensburg
REFRESH-INTERVAL;VALUE=DURATION:PT1H
X-Robots-Tag:noindex
X-PUBLISHED-TTL:PT1H
BEGIN:VTIMEZONE
TZID:Europe/Berlin
BEGIN:DAYLIGHT
TZOFFSETFROM:+0100
TZOFFSETTO:+0200
TZNAME:CEST
DTSTART:20210328T010000
END:DAYLIGHT
BEGIN:STANDARD
TZOFFSETFROM:+0200
TZOFFSETTO:+0100
TZNAME:CET
DTSTART:20211031T010000
END:STANDARD
BEGIN:DAYLIGHT
TZOFFSETFROM:+0100
TZOFFSETTO:+0200
TZNAME:CEST
DTSTART:20220327T010000
END:DAYLIGHT
BEGIN:STANDARD
TZOFFSETFROM:+0200
TZOFFSETTO:+0100
TZNAME:CET
DTSTART:20221030T010000
END:STANDARD
BEGIN:DAYLIGHT
TZOFFSETFROM:+0100
TZOFFSETTO:+0200
TZNAME:CEST
DTSTART:20230326T010000
END:DAYLIGHT
BEGIN:STANDARD
TZOFFSETFROM:+0200
TZOFFSETTO:+0100
TZNAME:CET
DTSTART:20231029T010000
END:STANDARD
END:VTIMEZONE
BEGIN:VEVENT
DTSTART;TZID=Europe/Berlin:20220924T200000
DTEND;TZID=Europe/Berlin:20220924T230000
DTSTAMP:20260424T165049
CREATED:20220420T064538Z
LAST-MODIFIED:20220420T064622Z
UID:1324-1664049600-1664060400@kolpinghaus-regensburg.de
SUMMARY:Salut Salon - Die Magie der Träume
DESCRIPTION:DIE MAGIE DER TRÄUME – THE MAGIC TOUR 2020 – 2022\n\nDer Titel ist Programm: In der neuen Bühnenshow von ›Salut Salon‹ geht es um Träume und den Zauber\, der von ihnen ausgeht – von Tschaikovskys „Winterträume“ über Ysaÿes „Rêve d’enfant/Traum eines Kindes“ bis hin zu „Hedwig’s Theme“ aus der Filmmusik zu Harry Potter. Die vier Musikerinnen zaubern\, spielen und singen\, rappen und steppen. Was ist Traum\, was Realität? Die Magie liegt bei ›Salut Salon‹ auch darin\, dass diese Frage unbeantwortet bleibt. Seit 18 Jahren begeistern die vier Musikerinnen ihr Publikum weltweit mit Charme\, Humor und virtuoser Klassik\, mit Tango Nuevo von Astor Piazzolla\, eigenen Chansons\, Instrumental-Akrobatik und poetischem Puppenspiel. Damit reißen sie Zuschauer im Pariser Olympia genauso zu Beifallsstürmen hin wie im Teatro Municipal in Rio de Janeiro oder in der Elbphilharmonie Hamburg. Mit ihrer neuen Bühnenshow tauchen die Musikerinnen ab in magische Welten – ab Februar zeigen Angelika Bachmann (Geige)\, Iris Siegfried (Geige)\, Olga Shkrygunova (Klavier) und Anna-Lena Perenthaler (Cello) Previews von DIE MAGIE DER TRÄUME in exklusiven Theatern. Die Premiere findet dann am 1. Juli 2020 im Thalia Theater Hamburg statt. \n  \nWeitere Infos finden Sie hier. \n 
URL:https://kolpinghaus-regensburg.de/veranstaltung/salut-salon-die-magie-der-traeume/
CATEGORIES:Konzert
END:VEVENT
END:VCALENDAR